BEGIN:VCALENDAR
PRODID:-//eluceo/ical//2.0/EN
VERSION:2.0
CALSCALE:GREGORIAN
BEGIN:VEVENT
UID:47bf9d6e68c82ae1a6dbf04224feb0e5
DTSTAMP:20260424T125249Z
SUMMARY:ROKJ Blütennacht Charity Anlass
DESCRIPTION:
URL:https://kreuzlingen-konstanz.innerwheel.ch/it/agenda/show/117
DTSTART;TZID=Europe/Zurich:20140503T180000
DTEND;TZID=Europe/Zurich:20140503T180000
LOCATION:Dreispitz Kreuzlingen
CATEGORIES:Inner Wheel
END:VEVENT
BEGIN:VTIMEZONE
TZID:Europe/Zurich
BEGIN:DAYLIGHT
DTSTART:20140503T180000
TZNAME:CEST
TZOFFSETTO:+0200
TZOFFSETFROM:+0200
END:DAYLIGHT
END:VTIMEZONE
END:VCALENDAR
