BEGIN:VCALENDAR
PRODID:-//eluceo/ical//2.0/EN
VERSION:2.0
CALSCALE:GREGORIAN
BEGIN:VEVENT
UID:5bc3dc6312e8e9814d16a04815779592
DTSTAMP:20260424T090312Z
SUMMARY:Bodensee- Regiotreffen D- CH -A- LI  auf der Insel Mainau
DESCRIPTION:Sito web: http://www.mainau.de
URL:https://kreuzlingen-konstanz.innerwheel.ch/it/agenda/show/118
DTSTART;TZID=Europe/Zurich:20140327T100000
DTEND;TZID=Europe/Zurich:20140327T100000
LOCATION:29.03.2014
CATEGORIES:Inner Wheel
END:VEVENT
BEGIN:VTIMEZONE
TZID:Europe/Zurich
BEGIN:STANDARD
DTSTART:20140327T100000
TZNAME:CET
TZOFFSETTO:+0100
TZOFFSETFROM:+0100
END:STANDARD
END:VTIMEZONE
END:VCALENDAR
